BEGIN:VCALENDAR
VERSION:2.0
PRODID:-//ooo ZNANOST! - ECPv6.4.0.1//NONSGML v1.0//EN
CALSCALE:GREGORIAN
METHOD:PUBLISH
X-WR-CALNAME:ooo ZNANOST!
X-ORIGINAL-URL:https://ern.um.si
X-WR-CALDESC:Events for ooo ZNANOST!
REFRESH-INTERVAL;VALUE=DURATION:PT1H
X-Robots-Tag:noindex
X-PUBLISHED-TTL:PT1H
BEGIN:VTIMEZONE
TZID:UTC
BEGIN:STANDARD
TZOFFSETFROM:+0000
TZOFFSETTO:+0000
TZNAME:UTC
DTSTART:20250101T000000
END:STANDARD
END:VTIMEZONE
BEGIN:VEVENT
DTSTART;TZID=UTC:20250422T140000
DTEND;TZID=UTC:20250422T150000
DTSTAMP:20260421T025315
CREATED:20250408T081258Z
LAST-MODIFIED:20260319T120750Z
UID:10000447-1745330400-1745334000@ern.um.si
SUMMARY:Začenjamo s Pogovori oooZnanost - Raziskovalci med nami
DESCRIPTION:V sklopu delovnega paketa kampanje ozaveščanja v okviru  projekta oooZnanost! vas vljudno vabimo k sodelovanju v seriji predstavitev s pogovori\, namenjenih predstavitvi raziskovalnih rezultatov in razpravi o zanimivih in družbeno pomembnih znanstvenih temah s predlaganim krovnimi naslovom serije enoletnega programa Pogovori oooZnanost! – Raziskovalci med nami. \nPrvi gost bo red. prof. dr. Branko Lobnikar iz Fakultete za varnostne vede Univerze v Mariboru\, ki bo predstavil študijo Lažne novice v digitalni dobi: Zakaj je znanstvena in medijska pismenost ključna? Dogodek bo na sporedu 22.aprila 2025 ob 14:00 v MS Teams. \n \nPogovori oooZnanost!  – Raziskovalci med nami bodo potekali med aprilom 2025 in aprilom 2026 (z izjemo julija in avgusta)\, predvidoma ob četrtkih ob 14. uri v okolju Microsoft Teams. \nTematike pogovorov: Dogodki bodo osredotočeni na rezultate raziskav financiranih iz programov EU (Obzorje Evropa\, Obzorje 2020)\, Javne agencije za raziskovalno in inovacijsko dejavnost ter drugih programov financiranja znanstvenoraziskovalne dejavnosti. Prav tako bomo obravnavali širše teme s področja znanosti in raziskovalnega poklica\, kot so bile opredeljene v prijavi projekta oooZnanost! \nNamen in cilji: Z organizacijo teh pogovorov omogočamo odprto znanstveno komunikacijo\, ki pripomore k boljšemu razumevanju raziskovalnega dela\, izboljšanju znanstvene pismenosti družbe in spodbujanju zanimanja za znanost in poklica raziskovalca med mladimi ter širšo javnostjo. S tem pomembno prispevamo k doseganju zastavljenih ciljev projekta oooZnanost!. \n\nV nadaljevanju vljudno vabljeni k ogledu naslednjih vsebin vezanih na dogodek: \n\n\n\nPsihologija globokih ponaredkov (Doc. dr. Nejc Plohl)\, 13. 3. 2026\nZgodbe iz projekta SOLARIS (Dr. Izidor Mlakar)\, 12. 3. 2026\nDružbena moč digitalnih platform in njene posledice za posameznika (Dr. Leona Ciler Budler)\, 12. 3. 2026\nPrikrito oglaševanje\, promocijsko umeščanje izdelkov in medijska etika (Doc. dr. Tina Tomažič)\, 2. 3. 2026\n(Samo)podoba znanosti in raziskovalcev v Sloveniji – Apel podobo svojo na ogled postavi (Dr. Branko Lobnikar)\, 18. 12. 2025\nVmesniki možgani-stroj: most med naravno in umetno inteligenco (Dr. Aleš Holobar)\, 18. 9. 2025\nAntibiotiki\, driska in klostridij (Dr. Maja Rupnik)\, 19. 6. 2025\n\n\n\n 
URL:https://ern.um.si/dogodek/zacenjamo-s-pogovori-oooznanost-raziskovalci-med-nami/
ATTACH;FMTTYPE=image/jpeg:https://ern.um.si/wp-content/uploads/2024/08/Slika_Predavanje-dr.-Dinevski.jpg
END:VEVENT
END:VCALENDAR