BEGIN:VCALENDAR
VERSION:2.0
PRODID:-//ooo ZNANOST! - ECPv6.4.0.1//NONSGML v1.0//EN
CALSCALE:GREGORIAN
METHOD:PUBLISH
X-WR-CALNAME:ooo ZNANOST!
X-ORIGINAL-URL:https://ern.um.si
X-WR-CALDESC:Events for ooo ZNANOST!
REFRESH-INTERVAL;VALUE=DURATION:PT1H
X-Robots-Tag:noindex
X-PUBLISHED-TTL:PT1H
BEGIN:VTIMEZONE
TZID:UTC
BEGIN:STANDARD
TZOFFSETFROM:+0000
TZOFFSETTO:+0000
TZNAME:UTC
DTSTART:20250101T000000
END:STANDARD
END:VTIMEZONE
BEGIN:VEVENT
DTSTART;TZID=UTC:20250401T190000
DTEND;TZID=UTC:20250401T200000
DTSTAMP:20260421T025354
CREATED:20250317T124344Z
LAST-MODIFIED:20251120T113235Z
UID:10000438-1743534000-1743537600@ern.um.si
SUMMARY:Na klepetu z Ano Vovk: Vitalna samooskrba na višji stopnji zavedanja
DESCRIPTION:Zaradi potrebe po višjih dimenzijah razmišljanja\, ki pripeljejo do odgovornih rešitev in temeljijo na varovanju življenja na našem planetu\, se razvija vitalna samooskrba\, ki je celostna\, tako za fizično telo kot za duhovno telo. Uporaba čudežnih rastlin\, adaptogenih rastlinskih delov ter hrane za dušo nas pripelje do samoouresničitve\, ta pa omogoča opolnomočenje širših družbenih skupnostih za odgovorno sobivanje na planetu Zemlja. \nRed. prof. ddr. Ana Vovk je inovatorka naravnih pristopov od osebne ravni do mednarodnih dimenzij in direktorica Inštituta za promocijo varstva okolja. \nDogodek organizira Univerza v Mariboru v okviru projekta Lažne novice in teorije zarote? Opolnomočimo (se za) znanost! – akronim oooZnanost!. Projekt se izvaja na podlagi uspešne kandidature na razpisu  Evropske noči raziskovalcev in Raziskovalci v šolah 2024-2025 v sklopu programa Obzorje Evropa\, MSCA & Državljani. Evropska noč raziskovalcev je vseevropski dogodek\, ki ga promovira Evropska unija\, odvija se hkrati v 23 državah in več kot 400 mestih po vsej Evropi in širše. \n\nV nadaljevanju vljudno vabljeni k branju in ogledu naslednjih datotek vezanih na dogodek: \n\nGradivo dogodka je na voljo na tej povezavi.\nPosnetek dogodka je na voljo na tej povezavi.
URL:https://ern.um.si/dogodek/na-klepetu-z-ano-vovk-vitalna-samooskrba-na-visji-stopnji-zavedanja/
ATTACH;FMTTYPE=image/jpeg:https://ern.um.si/wp-content/uploads/2025/03/pea-5153313_1280.jpg
END:VEVENT
END:VCALENDAR