BEGIN:VCALENDAR
VERSION:2.0
PRODID:-//ooo ZNANOST! - ECPv6.4.0.1//NONSGML v1.0//EN
CALSCALE:GREGORIAN
METHOD:PUBLISH
X-WR-CALNAME:ooo ZNANOST!
X-ORIGINAL-URL:https://ern.um.si
X-WR-CALDESC:Events for ooo ZNANOST!
REFRESH-INTERVAL;VALUE=DURATION:PT1H
X-Robots-Tag:noindex
X-PUBLISHED-TTL:PT1H
BEGIN:VTIMEZONE
TZID:UTC
BEGIN:STANDARD
TZOFFSETFROM:+0000
TZOFFSETTO:+0000
TZNAME:UTC
DTSTART:20240101T000000
END:STANDARD
END:VTIMEZONE
BEGIN:VEVENT
DTSTART;TZID=UTC:20241007T180000
DTEND;TZID=UTC:20241007T193000
DTSTAMP:20260421T025251
CREATED:20240823T200330Z
LAST-MODIFIED:20241004T090008Z
UID:10000213-1728324000-1728329400@ern.um.si
SUMMARY:Pogovori z Alumni UP: Povezujemo znanost z vsakdanom | FHŠ srečevanja: z ameriško avtorico Amy Fradel o življenju izseljencev
DESCRIPTION:V ponedeljek\, 7. oktobra\, bo v avli Armerije Univerze na Primorskem potekalo srečanje z ameriško zdravnico Amy Fradel iz mesteca Belfast v ameriški zvezni državi Maine\, ki je potomka slovenskih izseljencev. Na podstrešju svojih pokojnih staršev je pred leti našla škatlo s 300 pismi in številnimi fotografijami\, prek katerih je njena babica vse življenje vzdrževala stike s sorodniki v domovini. Tako je nastala knjiga ???? ????? ????? ???????: ? ????????? ????????? ?????\, o kateri bo govora na dogodku. Njeno delo pa ni le zgodba o izseljevanju\, temveč tudi pomemben dokument\, ki osvetljuje širšo zgodovinsko in kulturno izkušnjo slovenskih priseljencev v ZDA. Z avtorico se bo pogovarjal zgodovinar prof. dr. Aleksej Kalc. Dogodek bo potekal v slovenščini in angleščini\, prevod bo zagotovljen. \nDogodki “Pogovori z Alumni UP: Povezujemo znanost z vsakdanom” v organizaciji ekipe Alumni pisarne\, na katerih bodo sodelovali alumni in profesorji z določenih fakultet. Cilj je ustvariti dinamično okolje za smiselne razprave o sodobnih in pomembnih temah\, vključno z lažnimi novicami in teorijami zarote. Šest srečanj bo potekalo skozi celo leto\, pri vsakem pa bo moderator vodil strukturirano razpravo\, po kateri bomo odprli prostor za vprašanja občinstva in nadaljnji neformalni pogovor ob pogostitvi\, ki bo sledila. \n  \n 
URL:https://ern.um.si/dogodek/pogovori-z-alumni-up-1/
LOCATION:Koper\, Univerza na Primorskem\, Titov trg 4\, Koper\, 6000\, Slovenija
CATEGORIES:Različna področja znanosti
ATTACH;FMTTYPE=image/png:https://ern.um.si/wp-content/uploads/2024/08/UP-001.png
END:VEVENT
BEGIN:VEVENT
DTSTART;VALUE=DATE:20241009
DTEND;VALUE=DATE:20241010
DTSTAMP:20260421T025251
CREATED:20240805T220703Z
LAST-MODIFIED:20251117T093604Z
UID:10000152-1728432000-1728518399@ern.um.si
SUMMARY:Priložnosti za začetek in razvoj raziskovalne kariere (3. del) Krepitev in varovanje duševnega zdravja raziskovalcev na začetku kariere
DESCRIPTION:Delavnica bo praktično usmerjena in bo potekala v obliki pogovora z dr. Matjo Zalar\, članico upravnega odbora in vodjo skupine za duševno zdravje Mlade akademije ter uspešno raziskovalko Fakultete za kemijo in kemijsko tehnologijo Univerze v Mariboru. Udeleženci bodo skozi interaktivno razpravo pridobili vpogled v prepoznavanje in obvladovanje stresa ter ohranjanje duševne odpornosti. Delavnica bo ponujala konkretne nasvete in orodja za učinkovito upravljanje duševnega zdravja na začetku znanstvene kariere. Prijava na dogodek preko povezave IzpopolniUM. \n\nV nadaljevanju vljudno vabljeni k branju in ogledu naslednjih datotek vezanih na dogodek: \n\nVabilo s programom je na voljo na tej povezavi.\nGradivo dogodka je na voljo na tej povezavi.\nPosnetek dogodka je na voljo na tej povezavi\n\n 
URL:https://ern.um.si/dogodek/priloznosti-za-zacetek-in-razvoj-raziskovalne-kariere-3-del/
LOCATION:Dvorana Borisa Podrecce\, Rektorat\, Univerza v Mariboru\, Slomškov trg 15\, Maribor
CATEGORIES:Izobraževanje
ATTACH;FMTTYPE=image/jpeg:https://ern.um.si/wp-content/uploads/2024/06/UM_JUNIJ_1-scaled.jpg
END:VEVENT
END:VCALENDAR