BEGIN:VCALENDAR
VERSION:2.0
PRODID:-//ooo ZNANOST! - ECPv6.4.0.1//NONSGML v1.0//EN
CALSCALE:GREGORIAN
METHOD:PUBLISH
X-WR-CALNAME:ooo ZNANOST!
X-ORIGINAL-URL:https://ern.um.si/?lang=en
X-WR-CALDESC:Events for ooo ZNANOST!
REFRESH-INTERVAL;VALUE=DURATION:PT1H
X-Robots-Tag:noindex
X-PUBLISHED-TTL:PT1H
BEGIN:VTIMEZONE
TZID:UTC
BEGIN:STANDARD
TZOFFSETFROM:+0000
TZOFFSETTO:+0000
TZNAME:UTC
DTSTART:20240101T000000
END:STANDARD
END:VTIMEZONE
BEGIN:VEVENT
DTSTART;TZID=UTC:20240918T130000
DTEND;TZID=UTC:20240918T143000
DTSTAMP:20260422T180732
CREATED:20240922T234830Z
LAST-MODIFIED:20240922T234830Z
UID:10000405-1726664400-1726669800@ern.um.si
SUMMARY:Workshop on Widespread Science Communication
DESCRIPTION:The workshop on Inter-Science Communication is aimed at the consortium researchers.
URL:https://ern.um.si/dogodek/workshop-on-widespread-science-communication-3/?lang=en
LOCATION:online
CATEGORIES:Communicology
ATTACH;FMTTYPE=image/jpeg:https://ern.um.si/wp-content/uploads/2024/07/shutterstock_522965350-scaled.jpg
END:VEVENT
BEGIN:VEVENT
DTSTART;TZID=UTC:20240918T110000
DTEND;TZID=UTC:20240918T123000
DTSTAMP:20260422T180732
CREATED:20240923T000740Z
LAST-MODIFIED:20240923T000740Z
UID:10000418-1726657200-1726662600@ern.um.si
SUMMARY:Decoding Deception  Round table on fake news\, conspiracy theories and the erosion of trust in science
DESCRIPTION:The event will highlight the importance of critical thinking\, identifying misinformation and building trust in scientific sources. The roundtable\, moderated by Renata Dacinger\, a journalist from RTV SLO\, will be moderated by experts from various institutions: prof. dr. Dean Korošak\, Vice-Rector for Scientific Research at the University of Maribor and head of the oooZnanost! project\, Ms. Miriam Možgan\, Foreign Policy Advisor to the President of the Republic of Slovenia\, Dr. Aida Kamišalić Latifić\, State Secretary of the Ministry of Digital Transformation\, Prof. Dr. Štefko Miklavič\, Vice-Rector for Scientific Research and Development at the University of Primorska\, Assoc. Prof. Dr. Sašo Jerše\, Vice-Dean for Doctoral Studies and Scientific Research at the Faculty of Arts of the University of Ljubljana and project leader of the Humanities\, It’s You!\, and Dr. Nejc Plohl\, Assistant Professor at the Department of Psychology\, Faculty of Arts\, University of Maribor. \nThe debate will address the understanding of fake news\, the psychology of conspiracy theories\, the impact of digital media and the role of educational institutions and the state in the fight against disinformation. The programme will also include a presentation of the European Researchers’ Night 2024\, which will take place in 23 countries and more than 400 cities across Europe and beyond.
URL:https://ern.um.si/dogodek/decoding-deception-round-table-on-fake-news-conspiracy-theories-and-the-erosion-of-trust-in-science/?lang=en
CATEGORIES:Education
ATTACH;FMTTYPE=image/jpeg:https://ern.um.si/wp-content/uploads/2024/08/Slika45_adobestock_arhivUM-scaled.jpeg
END:VEVENT
BEGIN:VEVENT
DTSTART;TZID=UTC:20240918T100000
DTEND;TZID=UTC:20240918T113000
DTSTAMP:20260422T180732
CREATED:20240922T235821Z
LAST-MODIFIED:20240922T235821Z
UID:10000412-1726653600-1726659000@ern.um.si
SUMMARY:Ethics and Pitfalls in Science Communication (lecture for students)
DESCRIPTION:The World Wide Web offers easy access to information but also presents pitfalls. We will present unethical practices in electronic publishing\, such as predatory journals\, plagiarism\, predatory metrics\, and deceptive conferences. We will answer questions about how to recognise these practices and why it is not advisable to engage with them or use their resources. We will emphasise the importance of ethical behaviour in scientific communication and its impact on trust in science and the lack of critical thinking.
URL:https://ern.um.si/dogodek/ethics-and-pitfalls-in-science-communication-lecture-for-students/?lang=en
LOCATION:Univerzitetna knjižnica Maribor\, Glazerjeva dvorana\, Gospejna ulica 10\, Maribor\, 2000\, Slovenija
CATEGORIES:Education
ATTACH;FMTTYPE=image/jpeg:https://ern.um.si/wp-content/uploads/2024/08/Slika42_adobestock_arhivUM-scaled.jpeg
END:VEVENT
BEGIN:VEVENT
DTSTART;TZID=UTC:20240917T100000
DTEND;TZID=UTC:20240917T113000
DTSTAMP:20260422T180732
CREATED:20240922T235414Z
LAST-MODIFIED:20240922T235414Z
UID:10000409-1726567200-1726572600@ern.um.si
SUMMARY:Empowering Science (workshop) for students
DESCRIPTION:Workshop on critical evaluation of information and its sources and the use of open science for educational purposes. A presentational film on the Finnish model will be shown. Max. number of participants: 30. Registrations open until 6 September 2024 by e-mail to ern@um.si.
URL:https://ern.um.si/dogodek/empowering-science-workshop-for-students/?lang=en
LOCATION:Čitalnica ČUK\, Gospejna ulica 10\, Maribor\, 2000\, Slovenija
CATEGORIES:Education
ATTACH;FMTTYPE=image/jpeg:https://ern.um.si/wp-content/uploads/2024/08/Slika40_adobestock_arhivUM-scaled.jpeg
END:VEVENT
BEGIN:VEVENT
DTSTART;TZID=UTC:20240917T100000
DTEND;TZID=UTC:20240917T113000
DTSTAMP:20260422T180732
CREATED:20240922T235205Z
LAST-MODIFIED:20240922T235205Z
UID:10000407-1726567200-1726572600@ern.um.si
SUMMARY:Empowering Science (workshop) for teaching staff
DESCRIPTION:Workshop on critical evaluation of information and its sources and the use of open science for educational purposes. A presentational film on the Finnish model will be shown. \nMax. number of participants: 30. Registrations open until 6 September 2024 by e-mail to ern@um.si.
URL:https://ern.um.si/dogodek/empowering-science-workshop-for-teaching-staff/?lang=en
LOCATION:Univerzitetna knjižnica Maribor\, Učilnica Brede Filo\, Gospejna ulica 10\, Maribor\, 2000\, Slovenija
CATEGORIES:Education
ATTACH;FMTTYPE=image/jpeg:https://ern.um.si/wp-content/uploads/2024/08/Slika39_adobestock_arhivUM-scaled.jpg
END:VEVENT
BEGIN:VEVENT
DTSTART;TZID=UTC:20240913T130000
DTEND;TZID=UTC:20240913T143000
DTSTAMP:20260422T180732
CREATED:20240922T233511Z
LAST-MODIFIED:20240922T233511Z
UID:10000392-1726232400-1726237800@ern.um.si
SUMMARY:Getting ready for  the Science slam
DESCRIPTION:Workshop for Consortium researchers to prepare for the Science Slam.
URL:https://ern.um.si/dogodek/getting-ready-for-the-science-slam/2024-09-13/?lang=en
LOCATION:online
CATEGORIES:Different fields of science
ATTACH;FMTTYPE=image/jpeg:https://ern.um.si/wp-content/uploads/2024/08/Slika37_arhivUM-scaled.jpg
END:VEVENT
BEGIN:VEVENT
DTSTART;TZID=UTC:20240911T133000
DTEND;TZID=UTC:20240911T153000
DTSTAMP:20260422T180732
CREATED:20240922T234656Z
LAST-MODIFIED:20240922T234656Z
UID:10000403-1726061400-1726068600@ern.um.si
SUMMARY:Workshop on Widespread Science Communication
DESCRIPTION:The workshop on Inter-Science Communication is aimed at the consortium researchers.
URL:https://ern.um.si/dogodek/workshop-on-widespread-science-communication-2/?lang=en
LOCATION:online
CATEGORIES:Communicology
ATTACH;FMTTYPE=image/jpeg:https://ern.um.si/wp-content/uploads/2024/07/shutterstock_522965350-scaled.jpg
END:VEVENT
BEGIN:VEVENT
DTSTART;TZID=UTC:20240906T130000
DTEND;TZID=UTC:20240906T143000
DTSTAMP:20260422T180732
CREATED:20240922T233511Z
LAST-MODIFIED:20240922T233511Z
UID:10000389-1725627600-1725633000@ern.um.si
SUMMARY:Getting ready for  the Science slam
DESCRIPTION:Workshop for Consortium researchers to prepare for the Science Slam.
URL:https://ern.um.si/dogodek/getting-ready-for-the-science-slam/2024-09-06/?lang=en
LOCATION:online
CATEGORIES:Different fields of science
ATTACH;FMTTYPE=image/jpeg:https://ern.um.si/wp-content/uploads/2024/08/Slika37_arhivUM-scaled.jpg
END:VEVENT
BEGIN:VEVENT
DTSTART;TZID=UTC:20240904T130000
DTEND;TZID=UTC:20240904T143000
DTSTAMP:20260422T180732
CREATED:20240922T234446Z
LAST-MODIFIED:20240922T234446Z
UID:10000401-1725454800-1725460200@ern.um.si
SUMMARY:Workshop on Widespread Science Communication
DESCRIPTION:The workshop on Inter-Science Communication is aimed at the consortium researchers.
URL:https://ern.um.si/dogodek/workshop-on-widespread-science-communication/?lang=en
LOCATION:online
CATEGORIES:Communicology
ATTACH;FMTTYPE=image/jpeg:https://ern.um.si/wp-content/uploads/2024/07/shutterstock_522965350-scaled.jpg
END:VEVENT
BEGIN:VEVENT
DTSTART;TZID=UTC:20240903T190000
DTEND;TZID=UTC:20240903T200000
DTSTAMP:20260422T180732
CREATED:20240922T230438Z
LAST-MODIFIED:20240922T230438Z
UID:10000367-1725390000-1725393600@ern.um.si
SUMMARY:Chatting with Ana Vovk in the rhythm of nature: Why is it important to live in harmony with nature?
DESCRIPTION:Planet Earth has limited ability of self-renewal. Disruption of natural cycles manifests itself in exceeding the planetary limits of nature’s regeneration which is reflected in contaminated water\, the disappearance of glaciers\, resulting in rising sea levels and floods\, climate change\, biodiversity loss\, ocean acidification and ozone depletion. These consequences increasingly affect the difficult existence on our planet. This calls for big changes and a life in harmony with nature.
URL:https://ern.um.si/dogodek/chatting-with-ana-vovk-in-the-rhythm-of-nature-why-is-it-important-to-live-in-harmony-with-nature/?lang=en
LOCATION:online
CATEGORIES:Ecology
ATTACH;FMTTYPE=image/jpeg:https://ern.um.si/wp-content/uploads/2024/08/Slika32_pixabayfree.jpg
END:VEVENT
BEGIN:VEVENT
DTSTART;TZID=UTC:20240619T110000
DTEND;TZID=UTC:20240619T130000
DTSTAMP:20260422T180732
CREATED:20240922T232814Z
LAST-MODIFIED:20240922T232814Z
UID:10000384-1718794800-1718802000@ern.um.si
SUMMARY:Opportunities to Start and Develop a Research Career (Part 2): Where to go after your PhD?
DESCRIPTION:The “Where to go after your PhD?” event offers doctoral students\, young researchers and post-doctoral fellows an insight into their post-doctoral career options. The event will be attended by representatives of key institutions: the Public Agency for Research and Innovation of the Republic of Slovenia\, the Ministry of Higher Education\, Science and Innovation\, the Public Scholarship\, Development\, Disability and Maintenance Fund of the Republic of Slovenia\, the German Academic Exchange Service (DAAD)\, and representatives of the Mobility and European Training and Education Programmes Centre of the Republic of Slovenia. They will discuss various opportunities for further education\, scholarships\, research projects at home and abroad and much more.
URL:https://ern.um.si/dogodek/opportunities-to-start-and-develop-a-research-career-part-2-where-to-go-after-your-phd/?lang=en
CATEGORIES:Education
ATTACH;FMTTYPE=image/jpeg:https://ern.um.si/wp-content/uploads/2024/06/UM_JUNIJ_2-scaled.jpg
END:VEVENT
BEGIN:VEVENT
DTSTART;VALUE=DATE:20240615
DTEND;VALUE=DATE:20241001
DTSTAMP:20260422T180732
CREATED:20240610T111938Z
LAST-MODIFIED:20240808T095230Z
UID:10000013-1718409600-1727740799@ern.um.si
SUMMARY:Workshop on popular science communication
DESCRIPTION:The workshop on popular science communication is intended for consortium researchers. \n 
URL:https://ern.um.si/dogodek/delavnica-poljudnoznanstvenega-komuniciranja/?lang=en
LOCATION:online
CATEGORIES:Education
ATTACH;FMTTYPE=image/jpeg:https://ern.um.si/wp-content/uploads/2024/06/UM_JUNIJ_4.jpg
END:VEVENT
BEGIN:VEVENT
DTSTART;TZID=UTC:20240612T100000
DTEND;TZID=UTC:20240612T120000
DTSTAMP:20260422T180732
CREATED:20240922T232520Z
LAST-MODIFIED:20240922T232520Z
UID:10000382-1718186400-1718193600@ern.um.si
SUMMARY:Opportunities to Start and Develop a Research Career (Part 1)
DESCRIPTION:The event is aimed at all students who would like to find out what opportunities there are to start and develop their research career up to PhD. Part 1: Presentation of current calls for proposals (ARIS\, ICRI\, JŠRIPSRS\, DAAD). Part 2: What is it like to be a young researcher (presentation of the experience of starting and further developing a research career\, representative of the Young Academy).
URL:https://ern.um.si/dogodek/opportunities-to-start-and-develop-a-research-career-part-1/?lang=en
LOCATION:Dvorana Severni stolp Univerze v Mariboru\, Slomškov trg 15\, Maribor\, Slovenija
CATEGORIES:Education
ATTACH;FMTTYPE=image/jpeg:https://ern.um.si/wp-content/uploads/2024/06/UM_JUNIJ_1-scaled.jpg
END:VEVENT
BEGIN:VEVENT
DTSTART;TZID=UTC:20240531T093000
DTEND;TZID=UTC:20240531T163000
DTSTAMP:20260422T180732
CREATED:20240922T210816Z
LAST-MODIFIED:20240922T210837Z
UID:10000293-1717147800-1717173000@ern.um.si
SUMMARY:Psychology Master's Conference
DESCRIPTION:It aims to give students approaching the end of their studies the opportunity to present their research work and to stimulate debate and collaboration between students from different universities. The conference is an opportunity to share their work\, network between students and members of their departments and learn from each other. It also serves as a platform for the promotion of science in a broader sense.
URL:https://ern.um.si/dogodek/psychology-masters-conference/?lang=en
LOCATION:Koper\, Univerza na Primorskem\, Fakulteta za matematiko\, naravoslovje in informacijske tehnologije\, Glagoljaška ulica 8\, Koper\, 6000\, Slovenija
CATEGORIES:Psychology
ATTACH;FMTTYPE=image/jpeg:https://ern.um.si/wp-content/uploads/2024/08/7_photo-by_kelly-sikkema_unsplash-scaled.jpg
END:VEVENT
END:VCALENDAR