BEGIN:VCALENDAR
VERSION:2.0
PRODID:-//ooo ZNANOST! - ECPv6.4.0.1//NONSGML v1.0//EN
CALSCALE:GREGORIAN
METHOD:PUBLISH
X-WR-CALNAME:ooo ZNANOST!
X-ORIGINAL-URL:https://ern.um.si/?lang=en
X-WR-CALDESC:Events for ooo ZNANOST!
REFRESH-INTERVAL;VALUE=DURATION:PT1H
X-Robots-Tag:noindex
X-PUBLISHED-TTL:PT1H
BEGIN:VTIMEZONE
TZID:UTC
BEGIN:STANDARD
TZOFFSETFROM:+0000
TZOFFSETTO:+0000
TZNAME:UTC
DTSTART:20240101T000000
END:STANDARD
END:VTIMEZONE
BEGIN:VEVENT
DTSTART;VALUE=DATE:20241218
DTEND;VALUE=DATE:20241219
DTSTAMP:20260421T200005
CREATED:20240922T220303Z
LAST-MODIFIED:20240922T220332Z
UID:10000314-1734480000-1734566399@ern.um.si
SUMMARY:Development and Research Work with Artisans in Ljubljana
DESCRIPTION:A master’s student of tourism at the Faculty of Tourism Studies – Turistica (UP) will present his research experience to students\, which he gained during his visit to Deakin University in Australia under the mentorship of Professor Dr. Kaja Antlej through ASEF exchange program. During the presentation\, he will share insights into the process of planning and conducting research\, which involved an interdisciplinary group of experts. Additionally\, he will enrich the presentation with descriptions of the cultural and natural landmarks he explored during his stay in Australia. \n[The exact date of the event will be known later.]
URL:https://ern.um.si/dogodek/development-and-research-work-with-artisans-in-ljubljana/?lang=en
LOCATION:OŠ Antona Ukmarja\, Pot v Gaj 2\, Koper\, 6000\, Slovenija
CATEGORIES:Tourism
ATTACH;FMTTYPE=image/jpeg:https://ern.um.si/wp-content/uploads/2024/09/UP-FTS-001-scaled.jpg
END:VEVENT
BEGIN:VEVENT
DTSTART;TZID=UTC:20241218T160000
DTEND;TZID=UTC:20241218T170000
DTSTAMP:20260421T200005
CREATED:20240922T205315Z
LAST-MODIFIED:20240922T205315Z
UID:10000285-1734537600-1734541200@ern.um.si
SUMMARY:Journeys into the Mathematical Universe
DESCRIPTION:A series of six popular lectures titled “Fakulteta za matematiko\, naravoslovje in informacijske tehnologije’s Journeys into the Mathematical Universe” during the academic year. The lectures will be primarily aimed at high school students from the coastal region but will also be open to the general public. Researchers and university lecturers will understandably present ancient and modern mathematical concepts\, highlighting their utility in various branches of science\, natural sciences\, and social sciences. \n\nTo Infinity and Beyond (20. 11. 2024)\nSkrivnosti Jurija Vege: Univerzalni um\, ki je presegel meje svojega časa (18. 12. 2024)
URL:https://ern.um.si/dogodek/journeys-into-the-mathematical-universe/2024-12-18/?lang=en
LOCATION:Koper\, Univerza na Primorskem\, Fakulteta za matematiko\, naravoslovje in informacijske tehnologije\, Glagoljaška ulica 8\, Koper\, 6000\, Slovenija
CATEGORIES:Mathematics
ATTACH;FMTTYPE=image/png:https://ern.um.si/wp-content/uploads/2024/08/UP-FAMNIT-004.png
END:VEVENT
BEGIN:VEVENT
DTSTART;VALUE=DATE:20250115
DTEND;VALUE=DATE:20250116
DTSTAMP:20260421T200005
CREATED:20240922T211317Z
LAST-MODIFIED:20240922T211317Z
UID:10000296-1736899200-1736985599@ern.um.si
SUMMARY:Presentation on Fake News\, Conspiracy Theories\, and Science
DESCRIPTION:Exploration of the concepts of fake news\, conspiracy theories\, and science. The presentation will examine what distinguishes science from fake news and conspiracy theories and why science is essential. \n[The event will take place in 2025. The exact date will be announced later.]
URL:https://ern.um.si/dogodek/presentation-on-fake-news-conspiracy-theories-and-science/?lang=en
LOCATION:Koper\, Univerza na Primorskem\, Fakulteta za humanistične študije\, Titov trg 5\, Koper\, 6000\, Slovenija
CATEGORIES:Psychology
ATTACH;FMTTYPE=image/jpeg:https://ern.um.si/wp-content/uploads/2024/08/UP-FAMNIT-009.jpg
END:VEVENT
BEGIN:VEVENT
DTSTART;VALUE=DATE:20250115
DTEND;VALUE=DATE:20250116
DTSTAMP:20260421T200005
CREATED:20240922T212116Z
LAST-MODIFIED:20240922T212159Z
UID:10000299-1736899200-1736985599@ern.um.si
SUMMARY:Round Table Discussion: Intelligence Without Borders: Artificial Intelligence\, Humanity\, and the Future
DESCRIPTION:The rapid development of artificial intelligence\, especially chatbots\, raises critical questions across various fields that require thorough consideration. Artificial intelligence’s advancement transcends individual domains’ limitations and raises questions about education\, the economy\, creativity\, and more. Therefore\, we are organising a public event to discuss the impact of artificial intelligence on society and the future. The focus will be on fundamental questions\, ethical aspects\, and the social and political consequences of introducing artificial intelligence. The primary target audience for the event are students at the University of Primorska\, students from coastal high schools\, and other young individuals who will strongly feel the changes brought about by artificial intelligence. \n1. Fundamental questions: What is artificial intelligence\, and how does it differ from human intelligence? How does technological progress affect human intelligence?\n2. Ethics and the future: How can we ethically contemplate the development of artificial intelligence? What futures can we envision with rapid technological advancement?\n3. Social consequences: What will be the social and political consequences of introducing artificial intelligence? How will this affect the European Union’s work\, economy\, politics\, and regulation? \n[The event will take place in 2025. The exact date will be announced later.]
URL:https://ern.um.si/dogodek/round-table-discussion-intelligence-without-borders-artificial-intelligence-humanity-and-the-future/?lang=en
LOCATION:Koper\, Univerza na Primorskem\, Fakulteta za humanistične študije\, Titov trg 5\, Koper\, 6000\, Slovenija
CATEGORIES:Communicology
ATTACH;FMTTYPE=image/png:https://ern.um.si/wp-content/uploads/2024/08/UP-FHS-004.png
END:VEVENT
END:VCALENDAR