BEGIN:VCALENDAR
VERSION:2.0
PRODID:-//ooo ZNANOST! - ECPv6.4.0.1//NONSGML v1.0//EN
CALSCALE:GREGORIAN
METHOD:PUBLISH
X-ORIGINAL-URL:https://ern.um.si
X-WR-CALDESC:Events for ooo ZNANOST!
REFRESH-INTERVAL;VALUE=DURATION:PT1H
X-Robots-Tag:noindex
X-PUBLISHED-TTL:PT1H
BEGIN:VTIMEZONE
TZID:UTC
BEGIN:STANDARD
TZOFFSETFROM:+0000
TZOFFSETTO:+0000
TZNAME:UTC
DTSTART:20250101T000000
END:STANDARD
END:VTIMEZONE
BEGIN:VEVENT
DTSTART;VALUE=DATE:20251001
DTEND;VALUE=DATE:20260531
DTSTAMP:20260422T222237
CREATED:20250520T105035Z
LAST-MODIFIED:20250814T104823Z
UID:10000600-1759276800-1780185599@ern.um.si
SUMMARY:Topologija za fizike
DESCRIPTION:Topologija vstopa v fiziko skozi velika vrata. Na poljudnem predavanju v Osnovni šoli Radlje ob Dravi bomo prikazali\, da in kako lahko s topologijo predstavimo ključno obnašanje narave.
URL:https://ern.um.si/dogodek/topologija-za-fizike-2/
LOCATION:Univerza v Mariboru Fakulteta za naravoslovje in matematiko\, Koroška cesta 160\, Maribor\, 2000\, Slovenija
CATEGORIES:Fizika
ATTACH;FMTTYPE=image/jpeg:https://ern.um.si/wp-content/uploads/2024/08/Slika14_arhivUM.jpg
END:VEVENT
END:VCALENDAR