BEGIN:VCALENDAR
VERSION:2.0
PRODID:-//ooo ZNANOST! - ECPv6.4.0.1//NONSGML v1.0//EN
CALSCALE:GREGORIAN
METHOD:PUBLISH
X-WR-CALNAME:ooo ZNANOST!
X-ORIGINAL-URL:https://ern.um.si
X-WR-CALDESC:Events for ooo ZNANOST!
REFRESH-INTERVAL;VALUE=DURATION:PT1H
X-Robots-Tag:noindex
X-PUBLISHED-TTL:PT1H
BEGIN:VTIMEZONE
TZID:UTC
BEGIN:STANDARD
TZOFFSETFROM:+0000
TZOFFSETTO:+0000
TZNAME:UTC
DTSTART:20250101T000000
END:STANDARD
END:VTIMEZONE
BEGIN:VEVENT
DTSTART;VALUE=DATE:20251001
DTEND;VALUE=DATE:20260531
DTSTAMP:20260424T163013
CREATED:20250520T105035Z
LAST-MODIFIED:20250814T104823Z
UID:10000600-1759276800-1780185599@ern.um.si
SUMMARY:Topologija za fizike
DESCRIPTION:Topologija vstopa v fiziko skozi velika vrata. Na poljudnem predavanju v Osnovni šoli Radlje ob Dravi bomo prikazali\, da in kako lahko s topologijo predstavimo ključno obnašanje narave.
URL:https://ern.um.si/dogodek/topologija-za-fizike-2/
LOCATION:Univerza v Mariboru Fakulteta za naravoslovje in matematiko\, Koroška cesta 160\, Maribor\, 2000\, Slovenija
CATEGORIES:Fizika
ATTACH;FMTTYPE=image/jpeg:https://ern.um.si/wp-content/uploads/2024/08/Slika14_arhivUM.jpg
END:VEVENT
BEGIN:VEVENT
DTSTART;VALUE=DATE:20251001
DTEND;VALUE=DATE:20260501
DTSTAMP:20260424T163013
CREATED:20250520T104202Z
LAST-MODIFIED:20250814T105435Z
UID:10000540-1759276800-1777593599@ern.um.si
SUMMARY:Laserska tehnika v učilnici: Od tradicionalne obrti do sodobne pedagogike
DESCRIPTION:Udeleženci\, predvsem učitelji\, bodo spoznali\, kako lahko CNC laserska tehnika obogati tradicionalno obrt v učilnici. Razprava bo osredotočena na spodbujanje kritičnega razmišljanja\, kreativnosti in raziskovalnih sposobnosti učencev s pomočjo sodobne tehnologije. Poudarek bo na povezovanju znanosti\, tehnologije in umetnosti ter spodbujanju odprtega znanja in uravnotežene zastopanosti spolov.
URL:https://ern.um.si/dogodek/cnc-laserska-tehnika-v-ucilnici-od-tradicije-do-sodobnosti-2/
LOCATION:Univerza v Mariboru Fakulteta za naravoslovje in matematiko\, Koroška cesta 160\, Maribor\, 2000\, Slovenija
CATEGORIES:Tehnologija
ATTACH;FMTTYPE=image/jpeg:https://ern.um.si/wp-content/uploads/2024/08/Slika11_pixabayfree.jpg
END:VEVENT
BEGIN:VEVENT
DTSTART;VALUE=DATE:20251001
DTEND;VALUE=DATE:20260501
DTSTAMP:20260424T163013
CREATED:20250814T095137Z
LAST-MODIFIED:20250814T105356Z
UID:10000648-1759276800-1777593599@ern.um.si
SUMMARY:Recikliranje in ponovna uporaba materialov
DESCRIPTION:Kreativne delavnice za dijake Srednje šole za oblikovanje Maribor\, Srednje šole za storitvene dejavnosti in logistiko Šolskega centra Celje ter Gimnazije Ruše. Na ustvarjalnih delavnicah bodo dijaki spoznali\, kako lahko reciklirajo polimerne in naravne odpadne materiale\, kot so plastika in tekstilije\, ter kako jih lahko ponovno uporabijo.
URL:https://ern.um.si/dogodek/recikliranje-in-ponovna-uporaba-materialov-2/
LOCATION:Univerza v Mariboru\, Fakulteta za strojništvo\, Smetanova ulica 17\, Maribor\, 2000\, Slovenija
CATEGORIES:Inženirstvo
ATTACH;FMTTYPE=image/jpeg:https://ern.um.si/wp-content/uploads/2024/08/Slika18_arhivUM.jpg
END:VEVENT
BEGIN:VEVENT
DTSTART;VALUE=DATE:20251001
DTEND;VALUE=DATE:20260501
DTSTAMP:20260424T163013
CREATED:20250814T095543Z
LAST-MODIFIED:20250814T105309Z
UID:10000651-1759276800-1777593599@ern.um.si
SUMMARY:Inženirsko oblikovanje izdelkov
DESCRIPTION:Udeleženci bodo pridobili praktične veščine za oblikovanje inženirskih izdelkov\, ki združujejo estetiko in uporabnost. Z združevanjem teorije in praktičnih vaj bodo dobili celovit vpogled v proces oblikovanja izdelkov ter se naučili uskladiti funkcionalnost z estetiko. Namenjena je dijakom TŠC Maribor\, Gimnazije Slovenska Bistrica\, Srednje šole za strojništvo mehatroniko in medije ter Srednje šole za gradbeništvo in varovanje okolja Šolskega centra Celje.
URL:https://ern.um.si/dogodek/inzenirsko-oblikovanje-izdelkov-2/
LOCATION:Univerza v Mariboru\, Fakulteta za strojništvo\, Smetanova ulica 17\, Maribor\, 2000\, Slovenija
CATEGORIES:Inženirstvo
ATTACH;FMTTYPE=image/jpeg:https://ern.um.si/wp-content/uploads/2024/08/Slika20_arhivUM-scaled.jpg
END:VEVENT
BEGIN:VEVENT
DTSTART;VALUE=DATE:20251001
DTEND;VALUE=DATE:20260501
DTSTAMP:20260424T163013
CREATED:20250814T100320Z
LAST-MODIFIED:20250814T105137Z
UID:10000657-1759276800-1777593599@ern.um.si
SUMMARY:Podnebje\, pravo in posameznik – kako se EU odziva na podnebne spremembe?
DESCRIPTION:Uvod v pravno ureditev v Sloveniji in EU (pravna pismenost dijakov); praktične naloge\, ki se začnejo z merjenjem statističnih podatkov v razredu (npr. izračun povprečnega ogljičnega odtisa); oblikovanje praktičnih predlogov za izboljšanje varstva lokalnega okolja znotraj predstavljenih pravnih okvirov.
URL:https://ern.um.si/dogodek/podnebje-pravo-in-posameznik-kako-se-eu-odziva-na-podnebne-spremembe-2/
LOCATION:Srednja šola: I. gimnazija Maribor\, II. gimnazija Maribor\, Gimnazija Murska Sobota\, Gimnazija Franca Miklošiča Ljutomer\, Gimnazija Rogaška Slatina
CATEGORIES:Pravo
ATTACH;FMTTYPE=image/jpeg:https://ern.um.si/wp-content/uploads/2024/08/Slika27_adobestock_arhivUM-scaled.jpeg
END:VEVENT
BEGIN:VEVENT
DTSTART;VALUE=DATE:20251001
DTEND;VALUE=DATE:20260501
DTSTAMP:20260424T163013
CREATED:20250814T110014Z
LAST-MODIFIED:20250814T110014Z
UID:10000666-1759276800-1777593599@ern.um.si
SUMMARY:Recikliranje in ponovna uporaba materialov
DESCRIPTION:Srednja šola za oblikovanje Maribor\, Srednja šola za storitvene dejavnosti in logistiko Šolskega centra Celje\, Gimnazija Ruše.\nKreativne delavnice za dijake Srednje šole za oblikovanje Maribor\, Srednje šole za storitvene dejavnosti in logistiko Šolskega centra Celje ter Gimnazije Ruše. Na ustvarjalnih delavnicah bodo dijaki spoznali\, kako lahko reciklirajo polimerne in naravne odpadne materiale\, kot so plastika in tekstilije\, ter kako jih lahko ponovno uporabijo.
URL:https://ern.um.si/dogodek/recikliranje-in-ponovna-uporaba-materialov-3/
LOCATION:Univerza v Mariboru\, Fakulteta za strojništvo\, Smetanova ulica 17\, Maribor\, 2000\, Slovenija
CATEGORIES:Inženirstvo
ATTACH;FMTTYPE=image/jpeg:https://ern.um.si/wp-content/uploads/2024/08/Slika18_arhivUM.jpg
END:VEVENT
BEGIN:VEVENT
DTSTART;VALUE=DATE:20251001
DTEND;VALUE=DATE:20260501
DTSTAMP:20260424T163013
CREATED:20250814T110156Z
LAST-MODIFIED:20260320T133136Z
UID:10000669-1759276800-1777593599@ern.um.si
SUMMARY:Na poti k trajnostni energiji: Tehnologije za čistejši jutri
DESCRIPTION:Delavnice so namenjene ozaveščanju o energetskih tehnologijah za proizvodnjo čistejše energije. Pri praktičnih vajah bodo dijaki raziskovali delovanje naprednih tehnologij\, usvojili uporabne spretnosti ter spoznali\, kako lahko vsak posameznik prispeva k učinkovitejši rabi energije. \nUdeleženci: Šolski center Velenje in Šolski center Krško-Sevnica. \nPrograma obeh delavnic si lahko ogledate na spodnjih povezavah: \nProgram delavnice za dijake ŠCVelenje\, 15. 10. 2025 \nProgram delavnice ŠC Krško-Sevnica\, 4. 11. 2025 \n \n\n 
URL:https://ern.um.si/dogodek/na-poti-k-trajnostni-energiji-tehnologije-za-cistejsi-jutri/
LOCATION:Inštitut za energetiko FE\, UM\, Vrbina 18\, Krško\, 8270\, Slovenija
CATEGORIES:Tehnologija
ATTACH;FMTTYPE=image/jpeg:https://ern.um.si/wp-content/uploads/2024/08/Slika1_arhivUM-scaled.jpg
END:VEVENT
BEGIN:VEVENT
DTSTART;VALUE=DATE:20251001
DTEND;VALUE=DATE:20260501
DTSTAMP:20260424T163013
CREATED:20250814T111408Z
LAST-MODIFIED:20250814T111408Z
UID:10000675-1759276800-1777593599@ern.um.si
SUMMARY:Tekmovanje srednješolcev MariMUN\, v obliki tekmovanj Model United Nations (MUN) kot simulacija postopka pred Odborom za človekove pravice pri OZN
DESCRIPTION:Debatno tekmovanje srednješolcev: simulacija postopka pred organom EU\, pri čemer tekmovalci zastopajo določeno državo ali predstavnike civilne družbe. Tema: vloga institucij EU in civilne družbe ter drugih deležnikov pri lažnih novicah.
URL:https://ern.um.si/dogodek/tekmovanje-srednjesolcev-marimun-v-obliki-tekmovanj-model-united-nations-mun-kot-simulacija-postopka-pred-odborom-za-clovekove-pravice-pri-ozn/
LOCATION:Srednja šola: I. gimnazija Maribor\, II. gimnazija Maribor\, Gimnazija Murska Sobota\, Gimnazija Franca Miklošiča Ljutomer\, Gimnazija Rogaška Slatina
CATEGORIES:Pravo
ATTACH;FMTTYPE=image/jpeg:https://ern.um.si/wp-content/uploads/2025/08/IMG_2494.jpg
END:VEVENT
BEGIN:VEVENT
DTSTART;VALUE=DATE:20251001
DTEND;VALUE=DATE:20260501
DTSTAMP:20260424T163013
CREATED:20250814T111755Z
LAST-MODIFIED:20250814T111755Z
UID:10000678-1759276800-1777593599@ern.um.si
SUMMARY:Pravni hackatlon srednješolcev
DESCRIPTION:Učenci bodo v skupinah iskali odgovore in praktične rešitve na vnaprej zastavljeno vprašanje (npr. »50 % manj zavržene hrane do leta 2030 – kako?« ali »E-skiro – kako ga regulirati?«). Učenci bodo krepili mehke veščine javnega predstavljanja svojih idej. Med hackathonom bodo sodelujoči raziskovalci na voljo za pomoč pri pravnih okvirih.
URL:https://ern.um.si/dogodek/pravni-hackatlon-srednjesolcev/
LOCATION:Srednja šola: I. gimnazija Maribor\, II. gimnazija Maribor\, Gimnazija Murska Sobota\, Gimnazija Franca Miklošiča Ljutomer\, Gimnazija Rogaška Slatina
CATEGORIES:Pravo
ATTACH;FMTTYPE=image/jpeg:https://ern.um.si/wp-content/uploads/2024/08/11_photo-by_leon-wu_unsplash-scaled.jpg
END:VEVENT
BEGIN:VEVENT
DTSTART;VALUE=DATE:20251001
DTEND;VALUE=DATE:20260501
DTSTAMP:20260424T163013
CREATED:20250814T112001Z
LAST-MODIFIED:20250814T112001Z
UID:10000681-1759276800-1777593599@ern.um.si
SUMMARY:Inženiring poslovnih sistemov
DESCRIPTION:Udeležencem bomo približali raziskovalno delo na področju inženiringa poslovnih sistemov. Dogodek se bo odvijal v laboratoriju za inženiring poslovnih in produkcijskih sistemov (LIPPS). Raziskovalci se v laboratoriju LIPPS ukvarjajo z inženiringom in vprašanji modernega vodenja\, upravljanja in reguliranja poslovnih in delovnih sistemov. LIPPS podpira mrežo za neoviran\, brezkompromisen\, nenehen in stabilen pretok misli\, ukrepov\, odzivov in neštetih dejavnosti.
URL:https://ern.um.si/dogodek/inzeniring-poslovnih-sistemov/
LOCATION:Europark\, Pobreška cesta 18\, Maribor\, 2000\, Slovenija
CATEGORIES:Organizacijska znanost
ATTACH;FMTTYPE=image/jpeg:https://ern.um.si/wp-content/uploads/2024/08/Slika16_adobestockarhivUM-scaled.jpeg
END:VEVENT
END:VCALENDAR